BEGIN:VCALENDAR
VERSION:2.0
PRODID:-//hacksw/handcal//NONSGML v1.0//EN
CALSCALE:GREGORIAN
BEGIN:VEVENT
SUMMARY:Skyline Park
DTSTART:20260714T070000Z
DTEND:20260714T200000Z
LOCATION:St. Gallen und Umgebung
DTSTAMP:20260423T135901Z
UID:69ea0985ba506
END:VEVENT
END:VCALENDAR