BEGIN:VCALENDAR
VERSION:2.0
PRODID:-//hacksw/handcal//NONSGML v1.0//EN
CALSCALE:GREGORIAN
BEGIN:VEVENT
SUMMARY:Connyland
DTSTART:20260620T090000Z
DTEND:20260620T190000Z
LOCATION:St. Gallen und Umgebung
DTSTAMP:20260423T135934Z
UID:69ea09a635921
END:VEVENT
END:VCALENDAR