BEGIN:VCALENDAR
VERSION:2.0
PRODID:-//hacksw/handcal//NONSGML v1.0//EN
CALSCALE:GREGORIAN
BEGIN:VEVENT
SUMMARY:Tageslager
DTSTART:20260706T090000Z
DTEND:20260710T173000Z
LOCATION:St. Gallen und Umgebung
DTSTAMP:20260423T114630Z
UID:69e9ea7692307
END:VEVENT
END:VCALENDAR