BEGIN:VCALENDAR
VERSION:2.0
PRODID:-//hacksw/handcal//NONSGML v1.0//EN
CALSCALE:GREGORIAN
BEGIN:VEVENT
SUMMARY:Zwei Chöre - ein Trio  
DTSTART:20260503T170000Z
DTEND:20260503T181500Z
LOCATION:Kirche St.Fiden 
DTSTAMP:20260419T202805Z
UID:69e51eb511884
END:VEVENT
END:VCALENDAR